BEGIN:VCALENDAR
VERSION:2.0
PRODID:-//Equity Arc - ECPv6.15.14//NONSGML v1.0//EN
CALSCALE:GREGORIAN
METHOD:PUBLISH
X-WR-CALNAME:Equity Arc
X-ORIGINAL-URL:https://equityarc.org
X-WR-CALDESC:Events for Equity Arc
REFRESH-INTERVAL;VALUE=DURATION:PT1H
X-Robots-Tag:noindex
X-PUBLISHED-TTL:PT1H
BEGIN:VTIMEZONE
TZID:America/New_York
BEGIN:DAYLIGHT
TZOFFSETFROM:-0500
TZOFFSETTO:-0400
TZNAME:EDT
DTSTART:20230312T070000
END:DAYLIGHT
BEGIN:STANDARD
TZOFFSETFROM:-0400
TZOFFSETTO:-0500
TZNAME:EST
DTSTART:20231105T060000
END:STANDARD
BEGIN:DAYLIGHT
TZOFFSETFROM:-0500
TZOFFSETTO:-0400
TZNAME:EDT
DTSTART:20240310T070000
END:DAYLIGHT
BEGIN:STANDARD
TZOFFSETFROM:-0400
TZOFFSETTO:-0500
TZNAME:EST
DTSTART:20241103T060000
END:STANDARD
BEGIN:DAYLIGHT
TZOFFSETFROM:-0500
TZOFFSETTO:-0400
TZNAME:EDT
DTSTART:20250309T070000
END:DAYLIGHT
BEGIN:STANDARD
TZOFFSETFROM:-0400
TZOFFSETTO:-0500
TZNAME:EST
DTSTART:20251102T060000
END:STANDARD
END:VTIMEZONE
BEGIN:VEVENT
DTSTART;TZID=America/New_York:20241112T190000
DTEND;TZID=America/New_York:20241112T200000
DTSTAMP:20260422T070527
CREATED:20240826T203709Z
LAST-MODIFIED:20241001T174714Z
UID:144312-1731438000-1731441600@equityarc.org
SUMMARY:Optimizing Your Application & Audition
DESCRIPTION:This session will help you refine the non-musical aspects of your college application and audition. Hear tips to optimize your pre-screening recording\, college essay\, interview\, and audition skills. \nWho is this session for? This session is targeted towards prospective music students and families seeking to begin their college preparation process. This session will also be beneficial for private instructors and program managers who are supporting their students’ musical journey. \nRegistration is free for Equity Arc and El Sistema USA members\, and $35 for non-members.\nLearn more about Equity Arc membership | Learn more about El Sistema USA membership \n			\n			\n				\n				\n				\n				\n			\n				\n				\n				\n				\n				\n				\n			\n				\n				\n				\n				\n			\n				\n				\n				\n				\n				\n				\n				\n				\n				\n				\n				Meet the Speaker\n			\n			\n				\n				\n				\n				\n				\n				\n				\n				\n				\n				\n			\n			\n				\n				\n				\n				\n				\n				\n				\n				\n				\n				\n				\n				\n				\n				\n				About Dr. Alex Powell\n				Dr. Alex Powell has nearly twenty years of experience in college and conservatory administration. He has recently served as the Dean of Enrollment Management and Aid at the Cleveland Institute of Music\, following many years as the Dean of Admissions and Financial Aid at the New England Conservatory of Music in Boston. He also led admissions efforts at the Longy School of Music of Bard College and has provided enrollment management consulting to the San Francisco Conservatory of Music and the Cleveland Institute of Music. He has given numerous presentations on college admissions in the performing arts and has been a featured panelist at many conferences. He served as an adjudicator for Classical Singer\, NEC concerto competitions\, Boston Lyric Opera\, and VoicesBoston\, and has been on panels for hundreds of conservatory auditions. \nDr. Powell earned his Doctor of Musical Arts in Music Education at Boston University\, a Graduate Diploma in Vocal Performance at NEC\, a Master of Music in Vocal Performance at Belmont University\, and a Bachelor of Arts with a double major in History and Music at the University of Notre Dame. For twelve years\, Dr. Powell was a faculty member at Nashville State Community College\, specializing in innovative approaches to online music instruction. \nAs a professional musician\, Dr. Powell has performed throughout North America and Europe. As a long-time member of the Handel and Haydn Society Chorus\, he performed on numerous recordings and in live concerts at Boston’s Symphony Hall and Jordan Hall. He has sung with Philovox\, Orpheus Singers\, Boston Cecilia\, and Boston Secession\, and was a member of the London Symphony Chorus performing under Colin Davis\, Andre Previn\, and Richard Hickox. Dr. Powell completed the master course in poetry and performance at the Franz Schubert Institut in Austria where he worked with Elly Ameling\, Julius Drake\, and Wolfgang Holzmair. Dr. Powell was also the conductor of the Conservatory Chamber Choir at the Longy School of Music of Bard College.
URL:https://equityarc.org/event/optimizing-your-application-audition/
LOCATION:VA
CATEGORIES:Virtual
ATTACH;FMTTYPE=image/jpeg:https://equityarc.org/wp-content/uploads/2024/08/2-1-2.jpg
END:VEVENT
BEGIN:VEVENT
DTSTART;TZID=America/New_York:20241120T183000
DTEND;TZID=America/New_York:20241120T210000
DTSTAMP:20260422T070527
CREATED:20241024T184526Z
LAST-MODIFIED:20241024T184533Z
UID:145852-1732127400-1732136400@equityarc.org
SUMMARY:Common Application for Summer Study Fair
DESCRIPTION:Season 4 of the Common Application for Summer Study is here! Learn more about each partner program at the virtual summer study fair. Additionally\, Emily Brown\, Camp Director at Luzerne Music Center\, will share tips for students and families applying for and attending summer camp for the first time. \nThe Common Application for Summer Study allows musicians of color to apply to partner festivals through a streamlined and free application. Each partner commits to providing at least one full-tuition scholarship to a fellow selected through the application. Learn more about this transformative initiative ›  \n			\n				REGISTER\n			\n			\n				\n				\n				\n				\n			\n				\n				\n				\n				\n				\n				\n			\n				\n				\n				\n				\n			\n				\n				\n				\n				\n				\n				\n				\n				\n				\n				\n				Meet the Speaker\n			\n			\n				\n				\n				\n				\n				\n				\n				\n				\n				\n				\n			\n			\n				\n				\n				\n				\n				\n				\n				\n				\n				\n				\n				\n				\n				\n				\n				About Emily Brown\n				For the last decade\, Emily has dedicated her career to the summer camp community\, creating environments that are equitable\, diverse\, and accessible for all campers. At Luzerne Music Center\, she serves as the main point of contact for campers and their families year-round\, fostering trust\, comfort\, and excitement. Having gone to summer camp as a child\, Emily understands the transformative experience that camp creates. \nEmily holds a Bachelor of Music in Music Education and Flute Performance\, with a minor in Spanish\, from the State University of New York at Fredonia. As an educator\, she has taught in public schools and privately to students around the world. Her passion for expanding access to music education is at the core of her teaching philosophy.
URL:https://equityarc.org/event/common-application-for-summer-study-fair/
LOCATION:Zoom
CATEGORIES:Virtual
ATTACH;FMTTYPE=image/png:https://equityarc.org/wp-content/uploads/2024/10/Common-App-25-Fair.png
END:VEVENT
END:VCALENDAR